BEGIN:VCALENDAR
VERSION:2.0
PRODID:-//Sabre//Sabre VObject 4.5.8//EN
CALSCALE:GREGORIAN
BEGIN:VEVENT
UID:sabre-vobject-b5ab2392-f938-473d-b57a-5cf6b51d9172
DTSTAMP:20260420T154812Z
SUMMARY:Hacienda Lunch Special
DESCRIPTION:Hacienda Lunch Special.\n
X-ALT-DESC:FMTTYPE=text/html:<!DOCTYPE HTML PUBLIC "-//W3C//DTD HTML 3.2//E
 N"><HTML><p>Hacienda Lunch Special.</p>\n</HTML>
CREATED;TZID=America/Los_Angeles:20190408T160824
URL;VALUE=URI:https://hunterliggett.armymwr.com/view-event
DTSTART;TZID=America/Los_Angeles:20190417T110000
DTEND;TZID=America/Los_Angeles:20190417T130000
SEQUENCE:0
END:VEVENT
END:VCALENDAR
