BEGIN:VCALENDAR
VERSION:2.0
PRODID:-//Sabre//Sabre VObject 4.5.8//EN
CALSCALE:GREGORIAN
BEGIN:VEVENT
UID:sabre-vobject-fbe60656-a674-4faa-b071-e1cb22f69979
DTSTAMP:20260421T111406Z
SUMMARY:Documentary - Bombshell: The Hedy Lamarr Story 
DESCRIPTION:Documentary - Bombshell: The Hedy Lamarr Story \n
X-ALT-DESC:FMTTYPE=text/html:<!DOCTYPE HTML PUBLIC "-//W3C//DTD HTML 3.2//E
 N"><HTML><p><span ar-sa="" style="color: rgb(68\, 68\, 68)\; line-height: 
 107%\; font-family:\;">Documentary - Bombshell: The Hedy Lamarr Story </sp
 an></p>\n</HTML>
CREATED;TZID=America/Los_Angeles:20190305T100125
URL;VALUE=URI:https://hunterliggett.armymwr.com/view-event
DTSTART;TZID=America/Los_Angeles:20190308T130000
DTEND;TZID=America/Los_Angeles:20190308T150000
SEQUENCE:0
END:VEVENT
END:VCALENDAR
