BEGIN:VCALENDAR
VERSION:2.0
PRODID:-//Sabre//Sabre VObject 4.5.8//EN
CALSCALE:GREGORIAN
BEGIN:VEVENT
UID:sabre-vobject-5f262b34-5dba-46b6-a83f-aa9df979d296
DTSTAMP:20260422T000424Z
SUMMARY:Liggett  Lanes Lunch Special
DESCRIPTION:Liggett &nbsp\;Lanes Lunch Special.\n
X-ALT-DESC:FMTTYPE=text/html:<!DOCTYPE HTML PUBLIC "-//W3C//DTD HTML 3.2//E
 N"><HTML><p>Liggett &nbsp\;Lanes Lunch Special.</p>\n</HTML>
CREATED;TZID=America/Los_Angeles:20190215T135504
URL;VALUE=URI:https://hunterliggett.armymwr.com/view-event
DTSTART;TZID=America/Los_Angeles:20190215T110000
DTEND;TZID=America/Los_Angeles:20190215T140000
SEQUENCE:0
END:VEVENT
END:VCALENDAR
