BEGIN:VCALENDAR
VERSION:2.0
PRODID:-//Sabre//Sabre VObject 4.5.8//EN
CALSCALE:GREGORIAN
BEGIN:VEVENT
UID:sabre-vobject-6cce78d0-55c0-4210-9a6b-172a996b1d1c
DTSTAMP:20260421T123622Z
SUMMARY:Hacienda Lunch Special
DESCRIPTION:Hacienda&#39\;s Weekly Lunch Special.&nbsp\;\n
X-ALT-DESC:FMTTYPE=text/html:<!DOCTYPE HTML PUBLIC "-//W3C//DTD HTML 3.2//E
 N"><HTML><p>Hacienda&#39\;s Weekly Lunch Special.&nbsp\;</p>\n</HTML>
CREATED;TZID=America/Los_Angeles:20190305T103340
URL;VALUE=URI:https://hunterliggett.armymwr.com/view-event
DTSTART;TZID=America/Los_Angeles:20190306T110000
DTEND;TZID=America/Los_Angeles:20190306T130000
SEQUENCE:0
END:VEVENT
END:VCALENDAR
