BEGIN:VCALENDAR
VERSION:2.0
PRODID:-//Sabre//Sabre VObject 4.5.8//EN
CALSCALE:GREGORIAN
BEGIN:VEVENT
UID:sabre-vobject-46759632-c24a-401c-84b4-9c23eea6fa9b
DTSTAMP:20260421T123622Z
SUMMARY:ACS- Army emergency Relief Kick-Off
DESCRIPTION:Army Relief Kick-Off campaing. &quot\;Helping the Army Take Car
 e of its Owm&quot\;\n
X-ALT-DESC:FMTTYPE=text/html:<!DOCTYPE HTML PUBLIC "-//W3C//DTD HTML 3.2//E
 N"><HTML><p>Army Relief Kick-Off campaing. &quot\;Helping the Army Take Ca
 re of its Owm&quot\;</p>\n</HTML>
CREATED;TZID=America/Los_Angeles:20190319T092848
URL;VALUE=URI:https://hunterliggett.armymwr.com/view-event
DTSTART;TZID=America/Los_Angeles:20190301T000000
DTEND;TZID=America/Los_Angeles:20190415T160000
SEQUENCE:0
END:VEVENT
END:VCALENDAR
