BEGIN:VCALENDAR
VERSION:2.0
PRODID:-//Sabre//Sabre VObject 4.5.8//EN
CALSCALE:GREGORIAN
BEGIN:VEVENT
UID:sabre-vobject-13c75ee9-c2da-431c-adf6-5cb03400553a
DTSTAMP:20260422T020408Z
SUMMARY:QRP President's Day Sale
DESCRIPTION:QRP is selling all ammunition cans regardless of sizes for a $1
 .00 for the whole month of February.\n
X-ALT-DESC:FMTTYPE=text/html:<!DOCTYPE HTML PUBLIC "-//W3C//DTD HTML 3.2//E
 N"><HTML><p>QRP is selling all ammunition cans regardless of sizes for a $
 1.00 for the whole month of February.</p>\n</HTML>
CREATED;TZID=America/Los_Angeles:20190211T123107
URL;VALUE=URI:https://hunterliggett.armymwr.com/view-event
DTSTART;TZID=America/Los_Angeles:20190201T073000
DTEND;TZID=America/Los_Angeles:20190210T160000
SEQUENCE:0
END:VEVENT
END:VCALENDAR
