BEGIN:VCALENDAR
VERSION:2.0
PRODID:-//Sabre//Sabre VObject 4.5.8//EN
CALSCALE:GREGORIAN
BEGIN:VEVENT
UID:sabre-vobject-ad71415e-b520-48a7-a48c-ebf57fd5e648
DTSTAMP:20260422T000500Z
SUMMARY:Friendship Day Luncheon
DESCRIPTION:Child &amp\; Youth Services (CYS) cordially invites you to part
 icipate in our Friendship Day Family Luncheon. The luncheon will take pla
 ce at the Child Development Center Bldg. 178 this upcoming February 14\, 2
 019.\n
X-ALT-DESC:FMTTYPE=text/html:<!DOCTYPE HTML PUBLIC "-//W3C//DTD HTML 3.2//E
 N"><HTML><p>Child &amp\; Youth Services (CYS) cordially invites you to par
 ticipate in our Friendship Day Family Luncheon. The luncheon will take pl
 ace at the Child Development Center Bldg. 178 this upcoming February 14\, 
 2019.</p>\n</HTML>
CREATED;TZID=America/Los_Angeles:20190114T162203
URL;VALUE=URI:https://hunterliggett.armymwr.com/view-event
DTSTART;TZID=America/Los_Angeles:20190214T110000
DTEND;TZID=America/Los_Angeles:20190214T120000
SEQUENCE:0
END:VEVENT
END:VCALENDAR
