BEGIN:VCALENDAR
VERSION:2.0
PRODID:-//Sabre//Sabre VObject 4.5.8//EN
CALSCALE:GREGORIAN
BEGIN:VEVENT
UID:sabre-vobject-939bb37b-f464-4114-b8b6-4c68bb6653fa
DTSTAMP:20260424T082416Z
SUMMARY:90 Day Walking Challenge
DESCRIPTION:The DeAnza Sports Center invites you to register for the first 
 ever 90 Day Walking Challenge.\n
X-ALT-DESC:FMTTYPE=text/html:<!DOCTYPE HTML PUBLIC "-//W3C//DTD HTML 3.2//E
 N"><HTML><p>The DeAnza Sports Center invites you to register for the first
  ever 90 Day Walking Challenge.</p>\n</HTML>
CREATED;TZID=America/Los_Angeles:20190319T092729
URL;VALUE=URI:https://hunterliggett.armymwr.com/view-event
DTSTART;TZID=America/Los_Angeles:20190101T000000
DTEND;TZID=America/Los_Angeles:20190331T235959
SEQUENCE:0
END:VEVENT
END:VCALENDAR
