BEGIN:VCALENDAR
VERSION:2.0
PRODID:-//Sabre//Sabre VObject 4.5.8//EN
CALSCALE:GREGORIAN
BEGIN:VEVENT
UID:sabre-vobject-838be032-4efe-4388-9407-c2913db85725
DTSTAMP:20260421T123622Z
SUMMARY:Bench Press Competition
DESCRIPTION:Can you bench press the heaviest weight? Register for the Bench
  Press competition and put your strenght to the test.\n
X-ALT-DESC:FMTTYPE=text/html:<!DOCTYPE HTML PUBLIC "-//W3C//DTD HTML 3.2//E
 N"><HTML><p>Can you bench press the heaviest weight? Register for the Benc
 h Press competition and put your strenght to the test.</p>\n</HTML>
CREATED;TZID=America/Los_Angeles:20181215T180226
URL;VALUE=URI:https://hunterliggett.armymwr.com/view-event
DTSTART;TZID=America/Los_Angeles:20190307T180000
DTEND;TZID=America/Los_Angeles:20190307T190000
SEQUENCE:0
END:VEVENT
END:VCALENDAR
