BEGIN:VCALENDAR
VERSION:2.0
PRODID:-//Sabre//Sabre VObject 4.5.8//EN
CALSCALE:GREGORIAN
BEGIN:VEVENT
UID:sabre-vobject-12a64830-2e7f-4106-ae79-818f2df7a1c0
DTSTAMP:20260424T143817Z
SUMMARY:Hoilday Parade
DESCRIPTION:Child &amp\; Youth Services (CYS) invites you to our very first
  Hoilday parade. Friday December 7\, 2018 9:30am\n
X-ALT-DESC:FMTTYPE=text/html:<!DOCTYPE HTML PUBLIC "-//W3C//DTD HTML 3.2//E
 N"><HTML><p>Child &amp\; Youth Services (CYS) invites you to our very firs
 t Hoilday parade. Friday December 7\, 2018 9:30am</p>\n</HTML>
CREATED;TZID=America/Los_Angeles:20181204T095739
URL;VALUE=URI:https://hunterliggett.armymwr.com/view-event
DTSTART;TZID=America/Los_Angeles:20181207T093000
DTEND;TZID=America/Los_Angeles:20181207T103000
SEQUENCE:0
END:VEVENT
END:VCALENDAR
