BEGIN:VCALENDAR
VERSION:2.0
PRODID:-//Sabre//Sabre VObject 4.5.8//EN
CALSCALE:GREGORIAN
BEGIN:VEVENT
UID:sabre-vobject-49ebcc98-f22f-4e86-b7f5-323fd8a535ab
DTSTAMP:20260425T035712Z
SUMMARY:Create your own Holiday card!
DESCRIPTION:Create your own Holiday Card\n\nDecember 7\, 2018 10:00 at the 
 Cybary\n\nArmy Community Service (ACS) invites the Fort Hunter Liggett Com
 munity to join us at the Cybary for a fun create your own Holiday card eve
 nt.&nbsp\;&nbsp\;\n
X-ALT-DESC:FMTTYPE=text/html:<!DOCTYPE HTML PUBLIC "-//W3C//DTD HTML 3.2//E
 N"><HTML><p>Create your own Holiday Card</p>\n\n<p>December 7\, 2018 10:00
  at the Cybary</p>\n\n<p>Army Community Service (ACS) invites the Fort Hun
 ter Liggett Community to join us at the Cybary for a fun create your own H
 oliday card event.&nbsp\;&nbsp\;</p>\n</HTML>
CREATED;TZID=America/Los_Angeles:20181207T083525
URL;VALUE=URI:https://hunterliggett.armymwr.com/view-event
DTSTART;TZID=America/Los_Angeles:20181207T100000
DTEND;TZID=America/Los_Angeles:20181207T110000
SEQUENCE:0
END:VEVENT
END:VCALENDAR
