BEGIN:VCALENDAR
VERSION:2.0
PRODID:-//Sabre//Sabre VObject 4.5.8//EN
CALSCALE:GREGORIAN
BEGIN:VEVENT
UID:sabre-vobject-e8f1fe0f-97d3-41e6-8cab-4a8ae39b990f
DTSTAMP:20260424T050758Z
SUMMARY:Build your own Ginger Bread House
DESCRIPTION:Join us at the Historic Hacienda to decorate your own Gingerbre
 ad House.&nbsp\; We have the gumdrops\, red hots and more.&nbsp\; Put your
  creativity to work and celebrate the Holidays with edible decorations.\n
X-ALT-DESC:FMTTYPE=text/html:<!DOCTYPE HTML PUBLIC "-//W3C//DTD HTML 3.2//E
 N"><HTML><p style="margin: 0in 0in 8pt\;"><font face="Calibri">Join us at 
 the Historic Hacienda to decorate your own Gingerbread House.<span style="
 mso-spacerun: yes\;">&nbsp\; </span>We have the gumdrops\, red hots and mo
 re.<span style="mso-spacerun: yes\;">&nbsp\; </span>Put your creativity to
  work and celebrate the Holidays with edible decorations.</font></p>\n</HT
 ML>
CREATED;TZID=America/Los_Angeles:20181203T142657
URL;VALUE=URI:https://hunterliggett.armymwr.com/view-event
DTSTART;TZID=America/Los_Angeles:20181219T160000
DTEND;TZID=America/Los_Angeles:20181219T170000
SEQUENCE:0
END:VEVENT
END:VCALENDAR
