BEGIN:VCALENDAR
VERSION:2.0
PRODID:-//Sabre//Sabre VObject 4.5.8//EN
CALSCALE:GREGORIAN
BEGIN:VEVENT
UID:sabre-vobject-13e59ff1-5534-41ef-9ef0-50bae34fb984
DTSTAMP:20260424T082416Z
SUMMARY:Movie Night
DESCRIPTION:The Rec Center cordially invites you to our new Movie Night!\n\
 nPlease join us for a fun family event. Complimentary popcorn and candy wi
 ll be provided for all participants.\n\nEvent is open to Military Personne
 l\, Family Members and DoD Civilians..\n
X-ALT-DESC:FMTTYPE=text/html:<!DOCTYPE HTML PUBLIC "-//W3C//DTD HTML 3.2//E
 N"><HTML><p>The Rec Center cordially invites you to our new Movie Night!</
 p>\n\n<p>Please join us for a fun family event. Complimentary popcorn and 
 candy will be provided for all participants.</p>\n\n<p>Event is open to Mi
 litary Personnel\, Family Members and DoD Civilians..</p>\n</HTML>
CREATED;TZID=America/Los_Angeles:20181203T091206
URL;VALUE=URI:https://hunterliggett.armymwr.com/view-event
DTSTART;TZID=America/Los_Angeles:20181207T190000
DTEND;TZID=America/Los_Angeles:20181207T200000
SEQUENCE:0
END:VEVENT
BEGIN:VEVENT
UID:sabre-vobject-29c735f8-327a-4391-8226-94b458ba39f4
DTSTAMP:20260424T082416Z
SUMMARY:Movie Night
DESCRIPTION:The Rec Center cordially invites you to our new Movie Night!\n\
 nPlease join us for a fun family event. Complimentary popcorn and candy wi
 ll be provided for all participants.\n\nEvent is open to Military Personne
 l\, Family Members and DoD Civilians..\n
X-ALT-DESC:FMTTYPE=text/html:<!DOCTYPE HTML PUBLIC "-//W3C//DTD HTML 3.2//E
 N"><HTML><p>The Rec Center cordially invites you to our new Movie Night!</
 p>\n\n<p>Please join us for a fun family event. Complimentary popcorn and 
 candy will be provided for all participants.</p>\n\n<p>Event is open to Mi
 litary Personnel\, Family Members and DoD Civilians..</p>\n</HTML>
CREATED;TZID=America/Los_Angeles:20181203T091206
URL;VALUE=URI:https://hunterliggett.armymwr.com/view-event
DTSTART;TZID=America/Los_Angeles:20181221T190000
DTEND;TZID=America/Los_Angeles:20181221T200000
SEQUENCE:1
END:VEVENT
END:VCALENDAR
