BEGIN:VCALENDAR
VERSION:2.0
PRODID:-//Sabre//Sabre VObject 4.5.8//EN
CALSCALE:GREGORIAN
BEGIN:VEVENT
UID:sabre-vobject-616f1f01-10ab-47b5-83bf-69c6a40b223e
DTSTAMP:20260423T185447Z
SUMMARY:X-mas Break Kids Bowling Special
DESCRIPTION:Ligget Lanes will be offering a Bowling special during Christma
 s break.\n
X-ALT-DESC:FMTTYPE=text/html:<!DOCTYPE HTML PUBLIC "-//W3C//DTD HTML 3.2//E
 N"><HTML><p>Ligget Lanes will be offering a Bowling special during Christm
 as break.</p>\n</HTML>
CREATED;TZID=America/Los_Angeles:20181207T100714
URL;VALUE=URI:https://hunterliggett.armymwr.com/view-event
DTSTART;TZID=America/Los_Angeles:20181216T000000
DTEND;TZID=America/Los_Angeles:20190105T235959
SEQUENCE:0
END:VEVENT
END:VCALENDAR
