BEGIN:VCALENDAR
VERSION:2.0
PRODID:-//Sabre//Sabre VObject 4.5.8//EN
CALSCALE:GREGORIAN
BEGIN:VEVENT
UID:sabre-vobject-5e8054af-8611-4f22-80c7-0acc9c33a12e
DTSTAMP:20260424T082415Z
SUMMARY:Holiday 3-on-3 Basketball Tournament
DESCRIPTION:What team will win this year? Join us for our Holiday 3-on-3 Ba
 sketball Tournament and find out!\n
X-ALT-DESC:FMTTYPE=text/html:<!DOCTYPE HTML PUBLIC "-//W3C//DTD HTML 3.2//E
 N"><HTML><p>What team will win this year? Join us for our Holiday 3-on-3 B
 asketball Tournament and find out!</p>\n</HTML>
CREATED;TZID=America/Los_Angeles:20180821T175156
URL;VALUE=URI:https://hunterliggett.armymwr.com/view-event
DTSTART;TZID=America/Los_Angeles:20181218T180000
DTEND;TZID=America/Los_Angeles:20181218T190000
SEQUENCE:0
END:VEVENT
END:VCALENDAR
