BEGIN:VCALENDAR
VERSION:2.0
PRODID:-//Sabre//Sabre VObject 4.5.8//EN
CALSCALE:GREGORIAN
BEGIN:VEVENT
UID:sabre-vobject-c4a6b97a-5895-4c25-9b57-1214055c28e7
DTSTAMP:20260425T023922Z
SUMMARY:Pre-Thanksgiving Fitness Program
DESCRIPTION:
X-ALT-DESC:FMTTYPE=text/html:<!DOCTYPE HTML PUBLIC "-//W3C//DTD HTML 3.2//E
 N"><HTML></HTML>
CREATED;TZID=America/Los_Angeles:20180821T120140
URL;VALUE=URI:https://hunterliggett.armymwr.com/view-event
DTSTART;TZID=America/Los_Angeles:20181017T120000
DTEND;TZID=America/Los_Angeles:20181017T130000
SEQUENCE:0
END:VEVENT
BEGIN:VEVENT
UID:sabre-vobject-e1ca6785-f57f-47d3-ac6d-f8dd9335a3e3
DTSTAMP:20260425T023922Z
SUMMARY:Pre-Thanksgiving Fitness Program
DESCRIPTION:
X-ALT-DESC:FMTTYPE=text/html:<!DOCTYPE HTML PUBLIC "-//W3C//DTD HTML 3.2//E
 N"><HTML></HTML>
CREATED;TZID=America/Los_Angeles:20180821T120140
URL;VALUE=URI:https://hunterliggett.armymwr.com/view-event
DTSTART;TZID=America/Los_Angeles:20181024T120000
DTEND;TZID=America/Los_Angeles:20181024T130000
SEQUENCE:1
END:VEVENT
BEGIN:VEVENT
UID:sabre-vobject-7002c3fa-0d11-4c3b-b8ae-4caf7e9275e3
DTSTAMP:20260425T023922Z
SUMMARY:Pre-Thanksgiving Fitness Program
DESCRIPTION:
X-ALT-DESC:FMTTYPE=text/html:<!DOCTYPE HTML PUBLIC "-//W3C//DTD HTML 3.2//E
 N"><HTML></HTML>
CREATED;TZID=America/Los_Angeles:20180821T120140
URL;VALUE=URI:https://hunterliggett.armymwr.com/view-event
DTSTART;TZID=America/Los_Angeles:20181031T120000
DTEND;TZID=America/Los_Angeles:20181031T130000
SEQUENCE:2
END:VEVENT
BEGIN:VEVENT
UID:sabre-vobject-757c46f3-bdad-410c-9487-b49e6422e03e
DTSTAMP:20260425T023922Z
SUMMARY:Pre-Thanksgiving Fitness Program
DESCRIPTION:
X-ALT-DESC:FMTTYPE=text/html:<!DOCTYPE HTML PUBLIC "-//W3C//DTD HTML 3.2//E
 N"><HTML></HTML>
CREATED;TZID=America/Los_Angeles:20180821T120140
URL;VALUE=URI:https://hunterliggett.armymwr.com/view-event
DTSTART;TZID=America/Los_Angeles:20181107T120000
DTEND;TZID=America/Los_Angeles:20181107T130000
SEQUENCE:3
END:VEVENT
BEGIN:VEVENT
UID:sabre-vobject-dab4984c-4b64-4681-b221-209df98b04d1
DTSTAMP:20260425T023922Z
SUMMARY:Pre-Thanksgiving Fitness Program
DESCRIPTION:
X-ALT-DESC:FMTTYPE=text/html:<!DOCTYPE HTML PUBLIC "-//W3C//DTD HTML 3.2//E
 N"><HTML></HTML>
CREATED;TZID=America/Los_Angeles:20180821T120140
URL;VALUE=URI:https://hunterliggett.armymwr.com/view-event
DTSTART;TZID=America/Los_Angeles:20181114T120000
DTEND;TZID=America/Los_Angeles:20181114T130000
SEQUENCE:4
END:VEVENT
BEGIN:VEVENT
UID:sabre-vobject-90ba12c6-473f-44b2-aa98-2f2900ab1fed
DTSTAMP:20260425T023922Z
SUMMARY:Pre-Thanksgiving Fitness Program
DESCRIPTION:
X-ALT-DESC:FMTTYPE=text/html:<!DOCTYPE HTML PUBLIC "-//W3C//DTD HTML 3.2//E
 N"><HTML></HTML>
CREATED;TZID=America/Los_Angeles:20180821T120140
URL;VALUE=URI:https://hunterliggett.armymwr.com/view-event
DTSTART;TZID=America/Los_Angeles:20181120T120000
DTEND;TZID=America/Los_Angeles:20181120T130000
SEQUENCE:5
END:VEVENT
END:VCALENDAR
