BEGIN:VCALENDAR
VERSION:2.0
PRODID:-//Sabre//Sabre VObject 4.5.8//EN
CALSCALE:GREGORIAN
BEGIN:VEVENT
UID:sabre-vobject-0633d8bb-efe5-4445-9f4a-aa31449a3b50
DTSTAMP:20260425T035711Z
SUMMARY:Welcome Brief
DESCRIPTION:Become familiar with Fort Hunter Liggett.\n
X-ALT-DESC:FMTTYPE=text/html:<!DOCTYPE HTML PUBLIC "-//W3C//DTD HTML 3.2//E
 N"><HTML><p>Become familiar with Fort Hunter Liggett.</p>\n</HTML>
CREATED;TZID=America/Los_Angeles:20180507T153149
URL;VALUE=URI:https://hunterliggett.armymwr.com/view-event
DTSTART;TZID=America/Los_Angeles:20180606T090000
DTEND;TZID=America/Los_Angeles:20180606T110000
SEQUENCE:0
END:VEVENT
BEGIN:VEVENT
UID:sabre-vobject-f6840228-3a82-4b91-86ea-a88201f5c2c9
DTSTAMP:20260425T035711Z
SUMMARY:Welcome Brief
DESCRIPTION:Become familiar with Fort Hunter Liggett.\n
X-ALT-DESC:FMTTYPE=text/html:<!DOCTYPE HTML PUBLIC "-//W3C//DTD HTML 3.2//E
 N"><HTML><p>Become familiar with Fort Hunter Liggett.</p>\n</HTML>
CREATED;TZID=America/Los_Angeles:20180507T153149
URL;VALUE=URI:https://hunterliggett.armymwr.com/view-event
DTSTART;TZID=America/Los_Angeles:20180711T090000
DTEND;TZID=America/Los_Angeles:20180711T110000
SEQUENCE:1
END:VEVENT
BEGIN:VEVENT
UID:sabre-vobject-6046ea4f-6d51-43a0-9db8-21818123a098
DTSTAMP:20260425T035711Z
SUMMARY:Welcome Brief
DESCRIPTION:Become familiar with Fort Hunter Liggett.\n
X-ALT-DESC:FMTTYPE=text/html:<!DOCTYPE HTML PUBLIC "-//W3C//DTD HTML 3.2//E
 N"><HTML><p>Become familiar with Fort Hunter Liggett.</p>\n</HTML>
CREATED;TZID=America/Los_Angeles:20180507T153149
URL;VALUE=URI:https://hunterliggett.armymwr.com/view-event
DTSTART;TZID=America/Los_Angeles:20180801T090000
DTEND;TZID=America/Los_Angeles:20180801T110000
SEQUENCE:2
END:VEVENT
BEGIN:VEVENT
UID:sabre-vobject-a9c17766-3d24-4f95-98f7-b57735fffb81
DTSTAMP:20260425T035711Z
SUMMARY:Welcome Brief
DESCRIPTION:Become familiar with Fort Hunter Liggett.\n
X-ALT-DESC:FMTTYPE=text/html:<!DOCTYPE HTML PUBLIC "-//W3C//DTD HTML 3.2//E
 N"><HTML><p>Become familiar with Fort Hunter Liggett.</p>\n</HTML>
CREATED;TZID=America/Los_Angeles:20180507T153149
URL;VALUE=URI:https://hunterliggett.armymwr.com/view-event
DTSTART;TZID=America/Los_Angeles:20180905T090500
DTEND;TZID=America/Los_Angeles:20180905T110000
SEQUENCE:3
END:VEVENT
BEGIN:VEVENT
UID:sabre-vobject-de6a9aed-68bb-4689-814e-8bfbac4a6a13
DTSTAMP:20260425T035711Z
SUMMARY:Welcome Brief
DESCRIPTION:Become familiar with Fort Hunter Liggett.\n
X-ALT-DESC:FMTTYPE=text/html:<!DOCTYPE HTML PUBLIC "-//W3C//DTD HTML 3.2//E
 N"><HTML><p>Become familiar with Fort Hunter Liggett.</p>\n</HTML>
CREATED;TZID=America/Los_Angeles:20180507T153149
URL;VALUE=URI:https://hunterliggett.armymwr.com/view-event
DTSTART;TZID=America/Los_Angeles:20181003T090000
DTEND;TZID=America/Los_Angeles:20181003T110000
SEQUENCE:4
END:VEVENT
BEGIN:VEVENT
UID:sabre-vobject-063a3baa-e672-4c14-9ccc-2e743c2d624a
DTSTAMP:20260425T035711Z
SUMMARY:Welcome Brief
DESCRIPTION:Become familiar with Fort Hunter Liggett.\n
X-ALT-DESC:FMTTYPE=text/html:<!DOCTYPE HTML PUBLIC "-//W3C//DTD HTML 3.2//E
 N"><HTML><p>Become familiar with Fort Hunter Liggett.</p>\n</HTML>
CREATED;TZID=America/Los_Angeles:20180507T153149
URL;VALUE=URI:https://hunterliggett.armymwr.com/view-event
DTSTART;TZID=America/Los_Angeles:20181107T090000
DTEND;TZID=America/Los_Angeles:20181107T110000
SEQUENCE:5
END:VEVENT
BEGIN:VEVENT
UID:sabre-vobject-88916156-46b7-4fd0-befd-1320ec9f36c0
DTSTAMP:20260425T035711Z
SUMMARY:Welcome Brief
DESCRIPTION:Become familiar with Fort Hunter Liggett.\n
X-ALT-DESC:FMTTYPE=text/html:<!DOCTYPE HTML PUBLIC "-//W3C//DTD HTML 3.2//E
 N"><HTML><p>Become familiar with Fort Hunter Liggett.</p>\n</HTML>
CREATED;TZID=America/Los_Angeles:20180507T153149
URL;VALUE=URI:https://hunterliggett.armymwr.com/view-event
DTSTART;TZID=America/Los_Angeles:20181205T090000
DTEND;TZID=America/Los_Angeles:20181205T110000
SEQUENCE:6
END:VEVENT
END:VCALENDAR
