BEGIN:VCALENDAR
VERSION:2.0
PRODID:-//Sabre//Sabre VObject 4.5.8//EN
CALSCALE:GREGORIAN
BEGIN:VEVENT
UID:sabre-vobject-8f5f089f-1426-42fd-9420-391435fc2992
DTSTAMP:20260424T180044Z
SUMMARY:June Teen Center Events
DESCRIPTION:
X-ALT-DESC:FMTTYPE=text/html:<!DOCTYPE HTML PUBLIC "-//W3C//DTD HTML 3.2//E
 N"><HTML></HTML>
CREATED;TZID=America/Los_Angeles:20180315T141518
URL;VALUE=URI:https://hunterliggett.armymwr.com/view-event
DTSTART;TZID=America/Los_Angeles:20180601T170000
DTEND;TZID=America/Los_Angeles:20180601T190000
SEQUENCE:0
END:VEVENT
BEGIN:VEVENT
UID:sabre-vobject-31691616-726d-4e86-98f1-9d9e2c9b3920
DTSTAMP:20260424T180044Z
SUMMARY:June Teen Center Events
DESCRIPTION:
X-ALT-DESC:FMTTYPE=text/html:<!DOCTYPE HTML PUBLIC "-//W3C//DTD HTML 3.2//E
 N"><HTML></HTML>
CREATED;TZID=America/Los_Angeles:20180315T141518
URL;VALUE=URI:https://hunterliggett.armymwr.com/view-event
DTSTART;TZID=America/Los_Angeles:20180609T163000
DTEND;TZID=America/Los_Angeles:20180609T183000
SEQUENCE:1
END:VEVENT
BEGIN:VEVENT
UID:sabre-vobject-c9eaa5c3-5713-4431-81fd-aa16dba8aa52
DTSTAMP:20260424T180044Z
SUMMARY:June Teen Center Events
DESCRIPTION:
X-ALT-DESC:FMTTYPE=text/html:<!DOCTYPE HTML PUBLIC "-//W3C//DTD HTML 3.2//E
 N"><HTML></HTML>
CREATED;TZID=America/Los_Angeles:20180315T141518
URL;VALUE=URI:https://hunterliggett.armymwr.com/view-event
DTSTART;TZID=America/Los_Angeles:20180629T170000
DTEND;TZID=America/Los_Angeles:20180629T180000
SEQUENCE:2
END:VEVENT
END:VCALENDAR
