BEGIN:VCALENDAR
VERSION:2.0
PRODID:-//Sabre//Sabre VObject 4.5.8//EN
CALSCALE:GREGORIAN
BEGIN:VEVENT
UID:sabre-vobject-d2ff3f7c-a7e5-4e3b-9a47-cd5d1bf35a95
DTSTAMP:20260421T123044Z
SUMMARY:Fort Hunter Liggett's 85th Anniversary Open House & Free Concert!
DESCRIPTION:
X-ALT-DESC:FMTTYPE=text/html:<!DOCTYPE HTML PUBLIC "-//W3C//DTD HTML 3.2//E
 N"><HTML></HTML>
CREATED;TZID=America/Los_Angeles:20260416T164649
URL;VALUE=URI:https://hunterliggett.armymwr.com/view-event
DTSTART;TZID=America/Los_Angeles:20260502T150000
DTEND;TZID=America/Los_Angeles:20260502T213000
SEQUENCE:0
END:VEVENT
END:VCALENDAR
